BEGIN:VCALENDAR
VERSION:2.0
PRODID:-//hacksw/handcal//NONSGML v1.0//EN
BEGIN:VEVENT
SUMMARY:Ferie
UID:8beec739-46cb-4c34-8248-d41c4a63ed66
DTSTART:20260524T220000Z
DTEND:20260525T220000Z
LOCATION:Localisation   
CATEGORIES:Sportif
STATUS:
URL;VALUE=URI:https://www.judoclubthonon.org/evenements/2026/05/25/ferie-2435500
END:VEVENT
END:VCALENDAR
