BEGIN:VCALENDAR
VERSION:2.0
PRODID:-//hacksw/handcal//NONSGML v1.0//EN
BEGIN:VEVENT
SUMMARY:Ferie
UID:1e537b9e-b989-4e66-8167-a55888c10710
DTSTART:20260513T220000Z
DTEND:20260515T220000Z
LOCATION:Localisation   
CATEGORIES:Sportif
STATUS:
URL;VALUE=URI:https://www.judoclubthonon.org/evenements/2026/05/14/ferie-2435499
END:VEVENT
END:VCALENDAR
